BEGIN:VCALENDAR
PRODID:-//github.com/rianjs/ical.net//NONSGML ical.net 4.0//EN
VERSION:2.0
BEGIN:VTIMEZONE
TZID:America/Phoenix
X-LIC-LOCATION:America/Phoenix
END:VTIMEZONE
BEGIN:VEVENT
DESCRIPTION:Desert Code Camp - 2011.2
DTEND;TZID=America/Phoenix:20111105T180000
DTSTAMP:20260422T101028Z
DTSTART;TZID=America/Phoenix:20111105T080000
GEO:33.293070;-111.796620
LOCATION:Chandler - Gilbert Community College
ORGANIZER:
SEQUENCE:0
STATUS:TENTATIVE
SUMMARY:Desert Code Camp - 2011.2
UID:95a81277-ab4a-4aad-922f-aa48ba210eb3
END:VEVENT
END:VCALENDAR
